BEGIN:VCALENDAR
VERSION:2.0
PRODID:-//pscv - ECPv6.6.1//NONSGML v1.0//EN
CALSCALE:GREGORIAN
METHOD:PUBLISH
X-WR-CALNAME:pscv
X-ORIGINAL-URL:https://pscv.fr
X-WR-CALDESC:évènements pour pscv
REFRESH-INTERVAL;VALUE=DURATION:PT1H
X-Robots-Tag:noindex
X-PUBLISHED-TTL:PT1H
BEGIN:VTIMEZONE
TZID:Europe/Paris
BEGIN:DAYLIGHT
TZOFFSETFROM:+0100
TZOFFSETTO:+0200
TZNAME:CEST
DTSTART:20240331T010000
END:DAYLIGHT
BEGIN:STANDARD
TZOFFSETFROM:+0200
TZOFFSETTO:+0100
TZNAME:CET
DTSTART:20241027T010000
END:STANDARD
BEGIN:DAYLIGHT
TZOFFSETFROM:+0100
TZOFFSETTO:+0200
TZNAME:CEST
DTSTART:20250330T010000
END:DAYLIGHT
BEGIN:STANDARD
TZOFFSETFROM:+0200
TZOFFSETTO:+0100
TZNAME:CET
DTSTART:20251026T010000
END:STANDARD
BEGIN:DAYLIGHT
TZOFFSETFROM:+0100
TZOFFSETTO:+0200
TZNAME:CEST
DTSTART:20260329T010000
END:DAYLIGHT
BEGIN:STANDARD
TZOFFSETFROM:+0200
TZOFFSETTO:+0100
TZNAME:CET
DTSTART:20261025T010000
END:STANDARD
END:VTIMEZONE
BEGIN:VEVENT
DTSTART;TZID=Europe/Paris:20260323T123000
DTEND;TZID=Europe/Paris:20260323T123000
DTSTAMP:20260424T120445
CREATED:20260316T122552Z
LAST-MODIFIED:20260316T122644Z
UID:10000051-1774269000-1774269000@pscv.fr
SUMMARY:UDAF: TEMPS D'INFORMATION / ÉCHANGES
DESCRIPTION:La CPTS Champsaur Valgaudemar vous propose un temps d’information et d’échanges sur les mesures de protection des personnes vulnérables avec l’UDAF \nEn présence de: Géraldine MATHIEU\, déléguée à la protection des majeurs de l’UDAF des Hautes-Alpes \n►Lundi 23 mars\, 12h30-14h30\n►Salle Lesdiguière de St Bonnet (Place de la mairie\, côté crèche)  \n►Inscription recommandée ici (pour une meilleure organisation!) \nInformations et contact: 04 13 38 73 61 mission@pscv.fr
URL:https://pscv.fr/agenda/udaf-temps-dinformation-echanges/
LOCATION:CPTS Pôle Santé Champsaur Valgaudemar\, 4 Avenue du 11 novembre\, Saint Bonnet en Champsaur\, 05500
ATTACH;FMTTYPE=image/jpeg:https://pscv.fr/wp-content/uploads/2026/03/vdefProtection-majeur.jpg
END:VEVENT
BEGIN:VEVENT
DTSTART;TZID=Europe/Paris:20260313T130000
DTEND;TZID=Europe/Paris:20260313T150000
DTSTAMP:20260424T120445
CREATED:20260217T094200Z
LAST-MODIFIED:20260217T094216Z
UID:10000050-1773406800-1773414000@pscv.fr
SUMMARY:AMBASSADEUR DÉPISTAGES ORGANISÉS
DESCRIPTION:La CPTS Champsaur Valgaudemar vous propose un temps d’information sur les dépistages organisés. \nDr. Gautier et Nelly Lecaudey du CRCDC viennent à votre rencontre pour une mise à jour de vos connaissances sur les cancers concernés par les D.O.\, le fonctionnement précis des dépistages\, échanger sur les freins et savoir comment les lever…et répondre à vos questions pratiques issues du terrain! \n►Vendredi 13 mars\, 13h-15h (maximum)►Salle de réunion de la CPTS \n►Inscription recommandée ici (pour une meilleure gestion de l’espace!) \nInformations et contact: 04 13 38 73 61 prevention@pscv.fr
URL:https://pscv.fr/agenda/ambassadeur-depistages-organises/
LOCATION:CPTS Pôle Santé Champsaur Valgaudemar\, 4 Avenue du 11 novembre\, Saint Bonnet en Champsaur\, 05500
ATTACH;FMTTYPE=image/jpeg:https://pscv.fr/wp-content/uploads/2026/02/info-DO.jpg
END:VEVENT
BEGIN:VEVENT
DTSTART;TZID=Europe/Paris:20251203T190000
DTEND;TZID=Europe/Paris:20251203T210000
DTSTAMP:20260424T120445
CREATED:20251201T141330Z
LAST-MODIFIED:20251201T141330Z
UID:10000049-1764788400-1764795600@pscv.fr
SUMMARY:Atelier d'échange autour du refus de soins
DESCRIPTION:La CPTS vous propose un atelier pour échanger autour du refus de soins\, animé par Nicolas Matenot psychologue spécialisé dans les analyses de pratiques :\n\nMercredi 3 décembre 2025 à 19h salle à venir\, sur Saint Bonnet\n\n\nLes discussion porterons sur les causes du refus de soin\, l’acceptation des refus\, les demandes efficaces\, la gestion de problèmes\,… D’autres sujets pourront être abordés en fonction des besoins exprimés lors de l’ouverture de l’atelier.\n\nUne collation vous sera proposée afin de travailler dans les meilleures conditions. Dans un soucis d’organisation pourriez vous vous inscrire par mail à mission@pscv.fr \n\nPour les adhérents de la CPTS\, ce temps d’échange sera indemnisé.
URL:https://pscv.fr/agenda/atelier-dechange-autour-du-refus-de-soins/
LOCATION:CPTS Pôle Santé Champsaur Valgaudemar\, 4 Avenue du 11 novembre\, Saint Bonnet en Champsaur\, 05500
ATTACH;FMTTYPE=image/jpeg:https://pscv.fr/wp-content/uploads/2023/09/Picto-reunion.jpg
END:VEVENT
BEGIN:VEVENT
DTSTART;TZID=Europe/Paris:20251014T123000
DTEND;TZID=Europe/Paris:20251014T134500
DTSTAMP:20260424T120445
CREATED:20250926T135408Z
LAST-MODIFIED:20250926T135408Z
UID:10000048-1760445000-1760449500@pscv.fr
SUMMARY:RENCONTRE AVEC LE CORTO
DESCRIPTION:La CPTS vous propose un temps de rencontre avec le Centre infanto-juvénile “Corto Maltese” du CHBD \n\n\n►Mardi 14 octobre de 12h30 à 13h45\, Salle de réunion de la CPTS \n\n\navec les médecins psychiatres Grall et Zeroual \n\n\n\n\n\nPour une meilleure organisation\, merci de vous inscrire ici \n\n\nhttps://framadate.org/sZfWFuVcdjGOEogp \n\n\n\n\n\nLien visio sur demande! \n\n\n\n\n\nCette rencontre fait suite à une remontée de vos besoins par la coordinatrice des MSP\, qui a sollicité la CPTS pour permettre de proposer cette rencontre à tous les professionnels concernés du territoire. N’hésitez pas à nous faire part de vos besoins.
URL:https://pscv.fr/agenda/rencontre-avec-le-corto/
ATTACH;FMTTYPE=image/jpeg:https://pscv.fr/wp-content/uploads/2025/09/info-pro.jpg
END:VEVENT
BEGIN:VEVENT
DTSTART;TZID=Europe/Paris:20251002T080000
DTEND;TZID=Europe/Paris:20251002T173000
DTSTAMP:20260424T120445
CREATED:20250718T091223Z
LAST-MODIFIED:20250718T091223Z
UID:10000045-1759392000-1759426200@pscv.fr
SUMMARY:Conférence Alzheimer
DESCRIPTION:
URL:https://pscv.fr/agenda/conference-alzheimer/
LOCATION:EHPAD du Drac\, La fare en Champsaur
ATTACH;FMTTYPE=image/jpeg:https://pscv.fr/wp-content/uploads/2025/07/conf-alzheimer.jpg
ORGANIZER;CN="CPTS Champsaur Valgaudemar":MAILTO:contact@pscv.fr
END:VEVENT
BEGIN:VEVENT
DTSTART;TZID=Europe/Paris:20250923T180000
DTEND;TZID=Europe/Paris:20250923T200000
DTSTAMP:20260424T120445
CREATED:20250718T091722Z
LAST-MODIFIED:20250718T091916Z
UID:10000047-1758650400-1758657600@pscv.fr
SUMMARY:Formation Troubles de la déglutition chez la personne âgée
DESCRIPTION:Dans le cadre du parcours Personne Âgée\, nous vous proposons une formation sur les troubles de la déglutition chez la personne âgée animée par Marion KELLERMAN\, orthophoniste. \nNous vous proposons 2 dates de formation sur des créneaux différents :\n\n\nJeudi 11 septembre de 14h à 16h\n\n\nMardi 23 septembre de 18h à 20h\n\n\n\nMerci de vous inscrire via le formulaire ci-dessous :\n\nhttps://framaforms.org/inscription-formation-troubles-de-la-deglutition-1750928905\n\nLa formation se déroulera au sein de la CPTS\, 3 avenue du 11 novembre à Saint Bonnet.”\n 
URL:https://pscv.fr/agenda/formation-troubles-de-la-deglutition-chez-la-personne-agee/2025-09-23/
LOCATION:CPTS Pôle Santé Champsaur Valgaudemar\, 4 Avenue du 11 novembre\, Saint Bonnet en Champsaur\, 05500
ATTACH;FMTTYPE=image/jpeg:https://pscv.fr/wp-content/uploads/2025/07/Formation-troubles-degluPA.jpg
ORGANIZER;CN="CPTS Champsaur Valgaudemar":MAILTO:contact@pscv.fr
END:VEVENT
BEGIN:VEVENT
DTSTART;TZID=Europe/Paris:20250911T140000
DTEND;TZID=Europe/Paris:20250911T160000
DTSTAMP:20260424T120445
CREATED:20250718T091722Z
LAST-MODIFIED:20250718T091916Z
UID:10000046-1757599200-1757606400@pscv.fr
SUMMARY:Formation Troubles de la déglutition chez la personne âgée
DESCRIPTION:Dans le cadre du parcours Personne Âgée\, nous vous proposons une formation sur les troubles de la déglutition chez la personne âgée animée par Marion KELLERMAN\, orthophoniste. \nNous vous proposons 2 dates de formation sur des créneaux différents :\n\n\nJeudi 11 septembre de 14h à 16h\n\n\nMardi 23 septembre de 18h à 20h\n\n\n\nMerci de vous inscrire via le formulaire ci-dessous :\n\nhttps://framaforms.org/inscription-formation-troubles-de-la-deglutition-1750928905\n\nLa formation se déroulera au sein de la CPTS\, 3 avenue du 11 novembre à Saint Bonnet.”\n 
URL:https://pscv.fr/agenda/formation-troubles-de-la-deglutition-chez-la-personne-agee/2025-09-11/
LOCATION:CPTS Pôle Santé Champsaur Valgaudemar\, 4 Avenue du 11 novembre\, Saint Bonnet en Champsaur\, 05500
ATTACH;FMTTYPE=image/jpeg:https://pscv.fr/wp-content/uploads/2025/07/Formation-troubles-degluPA.jpg
ORGANIZER;CN="CPTS Champsaur Valgaudemar":MAILTO:contact@pscv.fr
END:VEVENT
BEGIN:VEVENT
DTSTART;TZID=Europe/Paris:20250605T183000
DTEND;TZID=Europe/Paris:20250605T220000
DTSTAMP:20260424T120445
CREATED:20250321T132840Z
LAST-MODIFIED:20250509T133850Z
UID:10000043-1749148200-1749160800@pscv.fr
SUMMARY:ASSEMBLÉE GÉNÉRALE
DESCRIPTION:Nous avons le plaisir de vous convoquer à la prochaine Assemblée Générale de notre association « Pôle Santé Champsaur Valgaudemar » qui se tiendra : \nLe jeudi 05 juin 2025 \nAccueil à 18h45 – Début de l’AG à 19h \nSalle des fêtes de Manse – 05500 Forest Saint-Julien \nL’ordre du jour suivant sera débattu :\n1- Rapport moral\n2- Rapport d’activité 2024\n3- Rapport d’orientation 2025\n4- Rapport financier 2024 et rapport du commissaire aux comptes\n5- Budget prévisionnel 2025\n6- Vote des rapports\, de l’affectation du résultat\, du budget prévisionnel et quitus au CA\n7- Renouvellement du conseil d’administration\n8- Actualisation du projet de santé pour la période 2026 – 2030\n9- Questions diverses \n►A l’issue de l’Assemblée Générale\, vous êtes conviés à un apéritif dinatoire pour prolonger nos échanges dans la convivialité.\nMerci de nous confirmer votre présence avant le vendredi 23 mai par téléphone au 04.13.38.73.61 ou par mail à l’adresse contact@pscv.fr.
URL:https://pscv.fr/agenda/assemblee-generale/
LOCATION:salle des fête de Manse
ATTACH;FMTTYPE=image/png:https://pscv.fr/wp-content/uploads/2025/03/visuels-AG-2025_2.png
ORGANIZER;CN="CPTS Champsaur Valgaudemar":MAILTO:contact@pscv.fr
END:VEVENT
BEGIN:VEVENT
DTSTART;TZID=Europe/Paris:20250527T083000
DTEND;TZID=Europe/Paris:20250527T170000
DTSTAMP:20260424T120445
CREATED:20250509T100103Z
LAST-MODIFIED:20250516T094518Z
UID:10000044-1748334600-1748365200@pscv.fr
SUMMARY:Colloque santé mentale des jeunes
DESCRIPTION:  \n \nMardi 27 mai 2025 \nAu Tempo \nBoulevard Pierre et Marie Curie \n05000 Gap \n3e journée d’échanges – d’expériences\nInscription gratuite et obligatoire\nRenseignements : 07.88.55.35.04 a.gleize@dac05.fr
URL:https://pscv.fr/agenda/colloque-sante-mentale-des-jeunes/
LOCATION:TEMPO\, Gap\, BVD Pierre et Marie Curie\, GAP\, 05000
ATTACH;FMTTYPE=image/png:https://pscv.fr/wp-content/uploads/2025/05/programme-previsionnel-2705.png
END:VEVENT
BEGIN:VEVENT
DTSTART;TZID=Europe/Paris:20250424T123000
DTEND;TZID=Europe/Paris:20250424T140000
DTSTAMP:20260424T120445
CREATED:20250321T131414Z
LAST-MODIFIED:20250321T132009Z
UID:10000042-1745497800-1745503200@pscv.fr
SUMMARY:Commission Parcours Personnes Agées fragiles
DESCRIPTION:Inscription auprès d’Elsie. \nDans la salle de réunion de la CPTS. \n 
URL:https://pscv.fr/agenda/commission-parcours-personnes-agees-fragiles/
LOCATION:CPTS Pôle Santé Champsaur Valgaudemar\, 4 Avenue du 11 novembre\, Saint Bonnet en Champsaur\, 05500
ATTACH;FMTTYPE=image/jpeg:https://pscv.fr/wp-content/uploads/2023/09/Picto-reunion.jpg
ORGANIZER;CN="CPTS Champsaur Valgaudemar":MAILTO:contact@pscv.fr
END:VEVENT
BEGIN:VEVENT
DTSTART;TZID=Europe/Paris:20250318T190000
DTEND;TZID=Europe/Paris:20250318T223000
DTSTAMP:20260424T120445
CREATED:20250107T143801Z
LAST-MODIFIED:20250321T132956Z
UID:10000040-1742324400-1742337000@pscv.fr
SUMMARY:Soirée Interpro 2025!
DESCRIPTION:Moment convivial entre adhérents de la CPTS Champsaur Valgaudemar! \n 
URL:https://pscv.fr/agenda/soiree-interpro-2025/
ATTACH;FMTTYPE=image/jpeg:https://pscv.fr/wp-content/uploads/2025/01/Soiree-Interpro-2025-1.jpg
ORGANIZER;CN="CPTS Champsaur Valgaudemar":MAILTO:contact@pscv.fr
END:VEVENT
BEGIN:VEVENT
DTSTART;TZID=Europe/Paris:20250311T123000
DTEND;TZID=Europe/Paris:20250311T140000
DTSTAMP:20260424T120445
CREATED:20250219T132631Z
LAST-MODIFIED:20250219T132631Z
UID:10000041-1741696200-1741701600@pscv.fr
SUMMARY:Réunion Conseil d'Administration
DESCRIPTION:
URL:https://pscv.fr/agenda/reunion-conseil-dadministration/
LOCATION:CPTS Pôle Santé Champsaur Valgaudemar\, 4 Avenue du 11 novembre\, Saint Bonnet en Champsaur\, 05500
ATTACH;FMTTYPE=image/jpeg:https://pscv.fr/wp-content/uploads/2023/09/Picto-reunion.jpg
ORGANIZER;CN="CPTS Champsaur Valgaudemar":MAILTO:contact@pscv.fr
END:VEVENT
BEGIN:VEVENT
DTSTART;TZID=Europe/Paris:20250201T080000
DTEND;TZID=Europe/Paris:20250201T180000
DTSTAMP:20260424T120445
CREATED:20250107T125606Z
LAST-MODIFIED:20250107T125606Z
UID:10000038-1738396800-1738432800@pscv.fr
SUMMARY:Étique et fin de vie\, parlons-en
DESCRIPTION:Congrès de l’URPS ML PACA
URL:https://pscv.fr/agenda/etique-et-fin-de-vie-parlons-en/
LOCATION:Villa massalia      17 Pl. Louis Bonnefon     Marseille\, 13008\, Villa massalia\,17 Pl. Louis Bonnefon\, Marseille\, 13008\, 13008\, France
ATTACH;FMTTYPE=image/jpeg:https://pscv.fr/wp-content/uploads/2025/01/ImgFindevie.jpg
ORGANIZER;CN="URPS ML PACA":MAILTO:contact@urps-ml-paca.org
END:VEVENT
BEGIN:VEVENT
DTSTART;TZID=Europe/Paris:20250120T120000
DTEND;TZID=Europe/Paris:20250120T140000
DTSTAMP:20260424T120445
CREATED:20250107T123340Z
LAST-MODIFIED:20250107T123340Z
UID:10000037-1737374400-1737381600@pscv.fr
SUMMARY:Réunion Parcours Insuffisance cardiaque
DESCRIPTION:Parcours Insuffisance cardiaque. \nPour tout renseignement\, nous contacter! \n 
URL:https://pscv.fr/agenda/reunion-parcours-insuffisance-cardiaque/
LOCATION:CPTS Pôle Santé Champsaur Valgaudemar\, 4 Avenue du 11 novembre\, Saint Bonnet en Champsaur\, 05500
ATTACH;FMTTYPE=image/jpeg:https://pscv.fr/wp-content/uploads/2024/09/43071-scaled.jpg
END:VEVENT
BEGIN:VEVENT
DTSTART;TZID=Europe/Paris:20250113T123000
DTEND;TZID=Europe/Paris:20250113T143000
DTSTAMP:20260424T120445
CREATED:20250107T122405Z
LAST-MODIFIED:20250107T122405Z
UID:10000036-1736771400-1736778600@pscv.fr
SUMMARY:Réunion du Bureau
DESCRIPTION:réunion du bureau de l’association PSCV\nPour tout renseignement\, nous contacter
URL:https://pscv.fr/agenda/reunion-du-bureau/
LOCATION:CPTS Pôle Santé Champsaur Valgaudemar\, 4 Avenue du 11 novembre\, Saint Bonnet en Champsaur\, 05500
ATTACH;FMTTYPE=image/jpeg:https://pscv.fr/wp-content/uploads/2023/09/Picto-reunion.jpg
END:VEVENT
BEGIN:VEVENT
DTSTART;TZID=Europe/Paris:20250107T140000
DTEND;TZID=Europe/Paris:20250107T160000
DTSTAMP:20260424T120445
CREATED:20250107T130437Z
LAST-MODIFIED:20250107T130437Z
UID:10000039-1736258400-1736265600@pscv.fr
SUMMARY:Réunion du Conseil Territorial de Santé
DESCRIPTION:La CPTS Champsaur Valgaudemar accueillera cette réunion.\nPour tout renseignement\, nous contacter.
URL:https://pscv.fr/agenda/reunion-du-conseil-territorial-de-sante/
LOCATION:CPTS Pôle Santé Champsaur Valgaudemar\, 4 Avenue du 11 novembre\, Saint Bonnet en Champsaur\, 05500
ATTACH;FMTTYPE=image/jpeg:https://pscv.fr/wp-content/uploads/2023/09/Picto-reunion.jpg
END:VEVENT
BEGIN:VEVENT
DTSTART;TZID=Europe/Paris:20241212T193000
DTEND;TZID=Europe/Paris:20241212T213000
DTSTAMP:20260424T120445
CREATED:20240808T144411Z
LAST-MODIFIED:20241211T095813Z
UID:10000033-1734031800-1734039000@pscv.fr
SUMMARY:Soirée échange traumatologie
DESCRIPTION:
URL:https://pscv.fr/agenda/2538/
LOCATION:Salle des fêtes d’Ancelle
ATTACH;FMTTYPE=image/png:https://pscv.fr/wp-content/uploads/2024/08/traumato-1.png
END:VEVENT
BEGIN:VEVENT
DTSTART;TZID=Europe/Paris:20241107T190000
DTEND;TZID=Europe/Paris:20241107T230000
DTSTAMP:20260424T120445
CREATED:20240916T092244Z
LAST-MODIFIED:20240916T093548Z
UID:10000034-1731006000-1731020400@pscv.fr
SUMMARY:Les rencontres du pôle soins critiques CHICAS Cardiologie pratique
DESCRIPTION:
URL:https://pscv.fr/agenda/les-rencontres-du-pole-soins-critiques-chicas-cardiologie-pratique/
LOCATION:Cinémathèque de montagne de Gap\, 7 bis Rue du Forest d'Entrais\, Gap\, 05000
ATTACH;FMTTYPE=image/jpeg:https://pscv.fr/wp-content/uploads/2024/09/AFFICHE-SEMINAIRE-CARDIO-2024-1_page-0001-1.jpg
END:VEVENT
BEGIN:VEVENT
DTSTART;TZID=Europe/Paris:20241107T123000
DTEND;TZID=Europe/Paris:20241107T140000
DTSTAMP:20260424T120445
CREATED:20240423T103325Z
LAST-MODIFIED:20240905T134228Z
UID:10000030-1730982600-1730988000@pscv.fr
SUMMARY:Commission prévention
DESCRIPTION:
URL:https://pscv.fr/agenda/commission-prevention/
LOCATION:CPTS Pôle Santé Champsaur Valgaudemar\, 4 Avenue du 11 novembre\, Saint Bonnet en Champsaur\, 05500
ATTACH;FMTTYPE=image/png:https://pscv.fr/wp-content/uploads/2024/04/picto-prevention.png
END:VEVENT
BEGIN:VEVENT
DTSTART;TZID=Europe/Paris:20241017T193000
DTEND;TZID=Europe/Paris:20241017T213000
DTSTAMP:20260424T120445
CREATED:20240806T143007Z
LAST-MODIFIED:20241209T151656Z
UID:10000032-1729193400-1729200600@pscv.fr
SUMMARY:Soirée sur la Bronchiolite et présentation de  l'ARBAM
DESCRIPTION:
URL:https://pscv.fr/agenda/soiree-sur-la-bronchiolite-et-presentation-de-larbam/
ATTACH;FMTTYPE=image/png:https://pscv.fr/wp-content/uploads/2024/10/Soiree-dinformations-gratuite-et-ouverte-a-tou.png
END:VEVENT
BEGIN:VEVENT
DTSTART;TZID=Europe/Paris:20241015T123000
DTEND;TZID=Europe/Paris:20241015T140000
DTSTAMP:20260424T120445
CREATED:20240423T102200Z
LAST-MODIFIED:20240423T102231Z
UID:10000029-1728995400-1729000800@pscv.fr
SUMMARY:Commission Personnes âgées en situation de fragilité
DESCRIPTION:
URL:https://pscv.fr/agenda/commission-personnes-agees-en-situation-de-fragilite/
LOCATION:CPTS Pôle Santé Champsaur Valgaudemar\, 4 Avenue du 11 novembre\, Saint Bonnet en Champsaur\, 05500
ATTACH;FMTTYPE=image/png:https://pscv.fr/wp-content/uploads/2023/08/Maison-Sport-Sante-Picto-Senior-sans-rond.png
END:VEVENT
BEGIN:VEVENT
DTSTART;TZID=Europe/Paris:20241010T123000
DTEND;TZID=Europe/Paris:20241010T140000
DTSTAMP:20260424T120445
CREATED:20240917T135610Z
LAST-MODIFIED:20240917T135610Z
UID:10000035-1728563400-1728568800@pscv.fr
SUMMARY:Commission offre de soins
DESCRIPTION:
URL:https://pscv.fr/agenda/commission-offre-de-soins/
LOCATION:CPTS Pôle Santé Champsaur Valgaudemar\, 4 Avenue du 11 novembre\, Saint Bonnet en Champsaur\, 05500
ATTACH;FMTTYPE=image/jpeg:https://pscv.fr/wp-content/uploads/2024/09/43071-scaled.jpg
END:VEVENT
BEGIN:VEVENT
DTSTART;TZID=Europe/Paris:20241002T190000
DTEND;TZID=Europe/Paris:20241003T170000
DTSTAMP:20260424T120445
CREATED:20240422T151716Z
LAST-MODIFIED:20240422T151716Z
UID:10000027-1727895600-1727974800@pscv.fr
SUMMARY:Formation Entretien motivationnel
DESCRIPTION:
URL:https://pscv.fr/agenda/formation-entretien-motivationnel/
LOCATION:CPTS Pôle Santé Champsaur Valgaudemar\, 4 Avenue du 11 novembre\, Saint Bonnet en Champsaur\, 05500
ATTACH;FMTTYPE=image/png:https://pscv.fr/wp-content/uploads/2024/04/entretien-motiv.png
END:VEVENT
BEGIN:VEVENT
DTSTART;TZID=Europe/Paris:20240917T123000
DTEND;TZID=Europe/Paris:20240917T140000
DTSTAMP:20260424T120445
CREATED:20240423T101915Z
LAST-MODIFIED:20240905T134646Z
UID:10000028-1726576200-1726581600@pscv.fr
SUMMARY:Commission prévention : éducation thérapeutique du patient
DESCRIPTION:
URL:https://pscv.fr/agenda/2187/
LOCATION:CPTS Pôle Santé Champsaur Valgaudemar\, 4 Avenue du 11 novembre\, Saint Bonnet en Champsaur\, 05500
ATTACH;FMTTYPE=image/png:https://pscv.fr/wp-content/uploads/2024/04/Affiche-diabete-T2-20231-e1725543958560.png
END:VEVENT
BEGIN:VEVENT
DTSTART;TZID=Europe/Paris:20240910T193000
DTEND;TZID=Europe/Paris:20240910T213000
DTSTAMP:20260424T120445
CREATED:20240806T142025Z
LAST-MODIFIED:20240806T142545Z
UID:10000031-1725996600-1726003800@pscv.fr
SUMMARY:Rencontre équipe cardiologie EFICAS / Balances connectées
DESCRIPTION:
URL:https://pscv.fr/agenda/rencontre-equipe-cardiologie-eficas-balances-connectees/
LOCATION:Salle Lesdiguière\, Place de Waldems\, Saint-Bonnet-en-Champsaur\, 05500\, France
ATTACH;FMTTYPE=image/png:https://pscv.fr/wp-content/uploads/2024/08/Soiree-pro-EFICAS-1.png
END:VEVENT
BEGIN:VEVENT
DTSTART;TZID=Europe/Paris:20240613T123000
DTEND;TZID=Europe/Paris:20240613T140000
DTSTAMP:20260424T120445
CREATED:20240422T132018Z
LAST-MODIFIED:20240613T070857Z
UID:10000026-1718281800-1718287200@pscv.fr
SUMMARY:REPORTÉ! Info Pro: Maison Sport santé\, la prescription d' AP
DESCRIPTION:
URL:https://pscv.fr/agenda/info-pro-maison-sport-sante-la-prescription-d-ap/
LOCATION:CPTS Pôle Santé Champsaur Valgaudemar\, 4 Avenue du 11 novembre\, Saint Bonnet en Champsaur\, 05500
ATTACH;FMTTYPE=image/png:https://pscv.fr/wp-content/uploads/2024/04/info-pro-prescription-AP.png
END:VEVENT
BEGIN:VEVENT
DTSTART;TZID=Europe/Paris:20240611T140000
DTEND;TZID=Europe/Paris:20240611T210000
DTSTAMP:20260424T120445
CREATED:20240422T120906Z
LAST-MODIFIED:20240423T100309Z
UID:10000023-1718114400-1718139600@pscv.fr
SUMMARY:Les RDV du DAC: le numérique en santé
DESCRIPTION:
URL:https://pscv.fr/agenda/les-rdv-du-dac-le-numerique-en-sante/
LOCATION:Gap
ATTACH;FMTTYPE=image/jpeg:https://pscv.fr/wp-content/uploads/2024/04/RDV-du-DAC-numerique.jpg
END:VEVENT
BEGIN:VEVENT
DTSTART;TZID=Europe/Paris:20240611T110000
DTEND;TZID=Europe/Paris:20240611T150000
DTSTAMP:20260424T120445
CREATED:20240422T123708Z
LAST-MODIFIED:20240603T095336Z
UID:10000024-1718103600-1718118000@pscv.fr
SUMMARY:Inauguration du Parcours "Les Jeux me bouge" dans St Bonnet
DESCRIPTION:
URL:https://pscv.fr/agenda/inauguration-du-parcours-les-jeux-me-bouge-dans-st-bonnet/
LOCATION:CPTS Pôle Santé Champsaur Valgaudemar\, 4 Avenue du 11 novembre\, Saint Bonnet en Champsaur\, 05500
ATTACH;FMTTYPE=image/png:https://pscv.fr/wp-content/uploads/2024/05/affiche-parcours-guides-Vdef.png
END:VEVENT
BEGIN:VEVENT
DTSTART;TZID=Europe/Paris:20240605T093000
DTEND;TZID=Europe/Paris:20240605T183000
DTSTAMP:20260424T120445
CREATED:20240422T124454Z
LAST-MODIFIED:20240604T073008Z
UID:10000025-1717579800-1717612200@pscv.fr
SUMMARY:Journée mondiale de l'environnement: La Santé environnementale c'est quoi?
DESCRIPTION:
URL:https://pscv.fr/agenda/journee-mondiale-de-lenvironnement-la-sante-environnementale-cest-quoi/
LOCATION:Médiathèque de St Bonnet
ATTACH;FMTTYPE=image/png:https://pscv.fr/wp-content/uploads/2024/04/affiche-JM-ENVIRONNEMENT.png
END:VEVENT
BEGIN:VEVENT
DTSTART;TZID=Europe/Paris:20240604T183000
DTEND;TZID=Europe/Paris:20240604T210000
DTSTAMP:20260424T120445
CREATED:20240422T105557Z
LAST-MODIFIED:20241209T151831Z
UID:10000019-1717525800-1717534800@pscv.fr
SUMMARY:Assemblée Générale de la CPTS et inauguration
DESCRIPTION:
URL:https://pscv.fr/agenda/assemblee-generale-de-la-cpts-et-inauguration/
ATTACH;FMTTYPE=image/png:https://pscv.fr/wp-content/uploads/2024/04/visuels-AG-2024_vdef.png
END:VEVENT
END:VCALENDAR